BEGIN:VCALENDAR
VERSION:2.0
PRODID:-//urwahl3000//gruene-barnim.de//DE
CALSCALE:GREGORIAN
BEGIN:VEVENT
DTSTART:20260501T150000
DTEND:20260501T190000
LOCATION: 
DTSTAMP:20260501T150000
SUMMARY:Tag der Arbeit und Demokratiefest in Eberswalde
URL;VALUE=URI:https://www.gruene-barnim.de/termin/tag-der-arbeit-und-demokratiefest-in-eberswalde/
DESCRIPTION:Auf zum 1. Mai in Eberswalde!

14 Uhr Demo vom Gewerkschaftshaus zum Marktplatz

15 Uhr Beginn der Veranstaltung auf dem Marktplatz mit Musik, Markt der Initiativen, Essen & Trinken
UID:20260501T150000-20260501T150000-20260501T190000
END:VEVENT
END:VCALENDAR